BEGIN:VCALENDAR
VERSION:2.0
PRODID:-//ChamberMaster//Event Calendar 2.0//EN
METHOD:PUBLISH
X-PUBLISHED-TTL:P3D
REFRESH-INTERVAL:P3D
CALSCALE:GREGORIAN
BEGIN:VEVENT
DTSTART:20210810T200000Z
DTEND:20210810T220000Z
X-MICROSOFT-CDO-ALLDAYEVENT:FALSE
SUMMARY:Aperion Care Marion Open House
DESCRIPTION:You are invited to Aperion Care Marion's Open House (view flyer)\n\n\n\nJoin them for an afternoon of Food\, Fun\, and Fabulosity!!\n\n\n\nRSVP to rhonda@marionchamber.org or Kia Baker at kbaker@aperioncare.com
X-ALT-DESC;FMTTYPE=text/html:<span style="font-size:18px\;">You are invited to Aperion Care Marion&#39\;s Open House (<a href="https://chambermaster.blob.core.windows.net/userfiles/UserFiles/chambers/1400/File/futureofmarion3.pdf">view flyer</a>)<br />\n<br />\nJoin them for an afternoon of Food\, Fun\, and Fabulosity!!<br />\n<br />\nRSVP to rhonda@marionchamber.org or Kia Baker at kbaker@aperioncare.com</span><br />\n&nbsp\;
LOCATION:614 West 14th Street Marion IN 46953
UID:e.1400.3814
SEQUENCE:3
DTSTAMP:20260422T112835Z
URL:https://business.gogreatergrant.org/events/details/aperion-care-marion-open-house-3814
END:VEVENT

END:VCALENDAR
