BEGIN:VCALENDAR
VERSION:2.0
PRODID:-//ChamberMaster//Event Calendar 2.0//EN
METHOD:PUBLISH
X-PUBLISHED-TTL:P3D
REFRESH-INTERVAL:P3D
CALSCALE:GREGORIAN
BEGIN:VEVENT
DTSTART:20190919T150000Z
DTEND:20190919T180000Z
X-MICROSOFT-CDO-ALLDAYEVENT:FALSE
SUMMARY:Community Job Fair @ Marion Public Library located at 600 South Washington Street
DESCRIPTION:Community Job Fair (click here)\n\nsee employers
X-ALT-DESC;FMTTYPE=text/html:<span style="font-family:tahoma\;"><span style="font-size:14px\;">Community Job Fair (<a href="https://chambermaster.blob.core.windows.net/userfiles/UserFiles/chambers/1400/File/cjf9.19.19.png">click here</a>)<br />\n<a href="https://chambermaster.blob.core.windows.net/userfiles/UserFiles/chambers/1400/File/CommuntiyJobFairSeptemberFlyer1.pdf">see employers</a>&nbsp\;</span></span>
LOCATION:Marion Public Library 600 South Washington Street Marion IN 46953
UID:e.1400.3698
SEQUENCE:3
DTSTAMP:20260422T222645Z
URL:https://business.gogreatergrant.org/events/details/community-job-fair-marion-public-library-located-at-600-south-washington-street-3698
END:VEVENT

END:VCALENDAR
