BEGIN:VCALENDAR
VERSION:2.0
PRODID:-//ChamberMaster//Event Calendar 2.0//EN
METHOD:PUBLISH
X-PUBLISHED-TTL:P3D
REFRESH-INTERVAL:P3D
CALSCALE:GREGORIAN
BEGIN:VEVENT
DTSTART:20190918T180000Z
DTEND:20190918T220000Z
X-MICROSOFT-CDO-ALLDAYEVENT:FALSE
SUMMARY:Community Marketplace 2019
DESCRIPTION:The Community Marketplace is the largest Business Expo in Grant County. This event features 40 + exhibitors\, 500 + attendees and unlimited networking for relationship building. This event\, unlike any other\, connects you with partners in the business community and potential new customers.\n\n\n\nFEATURING:\n\n  Vendor-to-Vendor Networking Hours\n\n  Raffles and giveaways for vendors and attendees\n\n  Exhibitor Oasis\n\n  Children's Fun Zone Jump House and Face Painting
X-ALT-DESC;FMTTYPE=text/html:<span style="font-size:14px\;"><span style="font-family:tahoma\;">The Community Marketplace is the largest Business Expo in Grant County. This event features 40 + exhibitors\, 500 + attendees and unlimited networking for relationship building. This event\, unlike any other\, connects you with partners in the business community and potential new customers.<br />\n<br />\nFEATURING:<br />\n&bull\; Vendor-to-Vendor Networking Hours<br />\n&bull\; Raffles and giveaways for vendors and attendees<br />\n&bull\; Exhibitor Oasis<br />\n&bull\; Children&rsquo\;s Fun Zone Jump House and Face Painting</span></span>
LOCATION:STAR Financial YMCA 123 Sutter Way Marion IN 46952
UID:e.1400.3686
SEQUENCE:3
DTSTAMP:20260425T113353Z
URL:https://business.gogreatergrant.org/events/details/community-marketplace-2019-3686
END:VEVENT

END:VCALENDAR
