BEGIN:VCALENDAR
VERSION:2.0
PRODID:-//ChamberMaster//Event Calendar 2.0//EN
METHOD:PUBLISH
X-PUBLISHED-TTL:P3D
REFRESH-INTERVAL:P3D
CALSCALE:GREGORIAN
BEGIN:VEVENT
DTSTART:20190913T220000Z
DTEND:20190914T010000Z
X-MICROSOFT-CDO-ALLDAYEVENT:FALSE
SUMMARY:Ribbon Cutting (6 P.M.) & Celebration (6 to 9 P.M.) for the Reinvented Boston Hill Center located at 428 South Washington Street
DESCRIPTION:SHOWCASE & POP-UP EVENT (flyer)\n\n\n\nJoin us for a Ribbon Cutting at 6 P.M.\, followed by live jazz\, food and drinks\, door prizes\, pop-up shops\, and more as we celebrate the reinvented Boston Hill Center!
X-ALT-DESC;FMTTYPE=text/html:<span style="font-size:14px\;"><span style="font-family:tahoma\;">SHOWCASE &amp\; POP-UP EVENT (<a href="https://chambermaster.blob.core.windows.net/userfiles/UserFiles/chambers/1400/File/SHOWCASE_POPUPFLYER.png">flyer</a>)</span></span><br />\n<br />\n<span style="font-size:14px\;"><span style="font-family:tahoma\;">Join us for a Ribbon Cutting at 6 P.M.\, followed by live jazz\, food and drinks\, door prizes\, pop-up shops\, and more as we celebrate the reinvented Boston Hill Center!</span></span>
LOCATION:Boston Hill Center 428 South Washington Street Marion IN 46953
UID:e.1400.3678
SEQUENCE:3
DTSTAMP:20260425T103602Z
URL:https://business.gogreatergrant.org/events/details/ribbon-cutting-6-p-m-celebration-6-to-9-p-m-for-the-reinvented-boston-hill-center-located-at-428-south-washington-street-3678
END:VEVENT

END:VCALENDAR
