BEGIN:VCALENDAR
VERSION:2.0
PRODID:-//ChamberMaster//Event Calendar 2.0//EN
METHOD:PUBLISH
X-PUBLISHED-TTL:P3D
REFRESH-INTERVAL:P3D
CALSCALE:GREGORIAN
BEGIN:VEVENT
DTSTART:20210414T203000Z
DTEND:20210414T213000Z
X-MICROSOFT-CDO-ALLDAYEVENT:FALSE
SUMMARY:Ribbon Cutting @ Astro Tide Photography located at 102 East 4th Street\, Room 6
DESCRIPTION:
X-ALT-DESC;FMTTYPE=text/html:
LOCATION:
UID:e.1400.3808
SEQUENCE:3
DTSTAMP:20260423T054028Z
URL:https://business.gogreatergrant.org/events/details/ribbon-cutting-astro-tide-photography-located-at-102-east-4th-street-room-6-3808
END:VEVENT

END:VCALENDAR
