BEGIN:VCALENDAR
VERSION:2.0
PRODID:-//ChamberMaster//Event Calendar 2.0//EN
METHOD:PUBLISH
X-PUBLISHED-TTL:P3D
REFRESH-INTERVAL:P3D
CALSCALE:GREGORIAN
BEGIN:VEVENT
DTSTART:20210820T160000Z
DTEND:20210820T180000Z
X-MICROSOFT-CDO-ALLDAYEVENT:FALSE
SUMMARY:Ribbon Cutting @ Kingdom Roofing Systems located at 1405 South Western Avenue
DESCRIPTION:Join us at their Ribbon Cutting for the new headquarters of Kingdom Roofing Systems!   (see invitation)
X-ALT-DESC;FMTTYPE=text/html:<span style="font-size:18px\;">Join us at their Ribbon Cutting for the new headquarters of Kingdom Roofing Systems!&nbsp\; &nbsp\;(<a href="https://chambermaster.blob.core.windows.net/userfiles/UserFiles/chambers/1400/File/_Invitation.pdf">see invitation</a>)</span>
LOCATION:
UID:e.1400.3815
SEQUENCE:3
DTSTAMP:20260422T083953Z
URL:https://business.gogreatergrant.org/events/details/ribbon-cutting-kingdom-roofing-systems-located-at-1405-south-western-avenue-3815
END:VEVENT

END:VCALENDAR
