BEGIN:VCALENDAR
VERSION:2.0
PRODID:-//ChamberMaster//Event Calendar 2.0//EN
METHOD:PUBLISH
X-PUBLISHED-TTL:P3D
REFRESH-INTERVAL:P3D
CALSCALE:GREGORIAN
BEGIN:VEVENT
DTSTART:20200214T233000Z
DTEND:20200215T013000Z
X-MICROSOFT-CDO-ALLDAYEVENT:FALSE
SUMMARY:Taylor University Announces Valentine's Day Event
DESCRIPTION:"Come Dance with Me!"\n\nTaylor University Chorale & Taylor Sounds Dinner Concert\n\nAlspaugh Room | Hodson Dining Commons |Taylor University\n\n \n\nJoin us this Valentine's Day for a special evening of dinner and music hosted by the Taylor University Chorale and Taylor Sounds in the Alspaugh Room of the Hodson Dining Commons.\n\n\n\nThis year the Chorale and Sounds will present swinging standards from the 40's and 50's\, so put on your toe-tapping shoes and enjoy the 24th year of this annual tradition.
X-ALT-DESC;FMTTYPE=text/html:<span style="font-size:14px\;"><span style="font-family:tahoma\;">&ldquo\;Come Dance with Me!&rdquo\;<br />\nTaylor University Chorale &amp\; Taylor Sounds Dinner Concert<br />\nAlspaugh Room | Hodson Dining Commons |Taylor University<br />\n&nbsp\;<br />\n<span style="color:black\;">Join us this Valentine&rsquo\;s Day for a special evening of dinner and music hosted by</span>&nbsp\;the Taylor University Chorale and Taylor Sounds in the Alspaugh Room of the Hodson Dining Commons.<br />\n<br />\nThis year the Chorale and Sounds will present swinging standards from the 40&rsquo\;s and 50&rsquo\;s\, so put on your toe-tapping shoes and enjoy the 24<sup>th</sup> year of this annual tradition.&nbsp\;</span></span>
LOCATION:
UID:e.1400.3776
SEQUENCE:3
DTSTAMP:20260425T012930Z
URL:https://business.gogreatergrant.org/events/details/taylor-university-announces-valentine-s-day-event-3776
END:VEVENT

END:VCALENDAR
